BEGIN:VCALENDAR
VERSION:2.0
PRODID:-//MOJA Arts Festival - ECPv6.15.18//NONSGML v1.0//EN
CALSCALE:GREGORIAN
METHOD:PUBLISH
X-WR-CALNAME:MOJA Arts Festival
X-ORIGINAL-URL:https://mojafestival.com
X-WR-CALDESC:Events for MOJA Arts Festival
REFRESH-INTERVAL;VALUE=DURATION:PT1H
X-Robots-Tag:noindex
X-PUBLISHED-TTL:PT1H
BEGIN:VTIMEZONE
TZID:America/New_York
BEGIN:DAYLIGHT
TZOFFSETFROM:-0500
TZOFFSETTO:-0400
TZNAME:EDT
DTSTART:20220313T070000
END:DAYLIGHT
BEGIN:STANDARD
TZOFFSETFROM:-0400
TZOFFSETTO:-0500
TZNAME:EST
DTSTART:20221106T060000
END:STANDARD
BEGIN:DAYLIGHT
TZOFFSETFROM:-0500
TZOFFSETTO:-0400
TZNAME:EDT
DTSTART:20230312T070000
END:DAYLIGHT
BEGIN:STANDARD
TZOFFSETFROM:-0400
TZOFFSETTO:-0500
TZNAME:EST
DTSTART:20231105T060000
END:STANDARD
BEGIN:DAYLIGHT
TZOFFSETFROM:-0500
TZOFFSETTO:-0400
TZNAME:EDT
DTSTART:20240310T070000
END:DAYLIGHT
BEGIN:STANDARD
TZOFFSETFROM:-0400
TZOFFSETTO:-0500
TZNAME:EST
DTSTART:20241103T060000
END:STANDARD
END:VTIMEZONE
BEGIN:VEVENT
DTSTART;TZID=America/New_York:20230929T200000
DTEND;TZID=America/New_York:20230929T220000
DTSTAMP:20260423T041038
CREATED:20240603T133834Z
LAST-MODIFIED:20240603T133834Z
UID:1753-1696017600-1696024800@mojafestival.com
SUMMARY:The War and Treaty
DESCRIPTION:Founded in 2014 by the husband-and-wife duo Michael Trotter Jr. and Tanya Trotter\, The War And Treaty have emerged as one of the most electrifying new acts in American music. \nWith a lionhearted sonic blend – both roaring with passion and tender to the touch\, they “are making soul moves that are captivating everyone who sees them\,” (Hits Magazine).
URL:https://mojafestival.com/event/the-war-and-treaty/
LOCATION:Music Farm\, 32 Ann Street\, Charleston\, SC\, 29403\, United States
CATEGORIES:Music
ATTACH;FMTTYPE=image/jpeg:https://mojafestival.com/wp-content/uploads/2024/06/event-war-treaty-1.jpg
END:VEVENT
BEGIN:VEVENT
DTSTART;TZID=America/New_York:20230929T193000
DTEND;TZID=America/New_York:20230929T210000
DTSTAMP:20260423T041038
CREATED:20240603T123653Z
LAST-MODIFIED:20240603T123653Z
UID:1736-1696015800-1696021200@mojafestival.com
SUMMARY:Wedding Band
DESCRIPTION:Village Rep and Threshold present this spell-binding story by one of the most important playwrights of the 20th Century\, Alice Childress. \nWedding Band – written with great precision and powerful storytelling – gives an emotional portrayal of a relationship between a Black seamstress\, Julia\, and a white baker\, Herman\, in the shadow of the First World War and the 1918 flu epidemic in Charleston\, South Carolina. The couple’s deep love and commitment faces the cruel racism of the Deep South in this revealing portrayal of interracial love\, forced to navigate the societal racism of laws and culture\, along with heartbreaking judgment from their own families and communities. \n“A great deal of compassion…Its strength lies in the poignancy of its star crossed lovers.” -NY Times
URL:https://mojafestival.com/event/wedding-band/
LOCATION:Threshold Repertory Theatre\, 84 Society St\, Charleston\, SC\, 29401\, United States
CATEGORIES:Drama
ATTACH;FMTTYPE=image/jpeg:https://mojafestival.com/wp-content/uploads/2024/06/event-wedding-band-1.jpg
END:VEVENT
BEGIN:VEVENT
DTSTART;TZID=America/New_York:20230928T190000
DTEND;TZID=America/New_York:20230928T203000
DTSTAMP:20260423T041039
CREATED:20240603T122713Z
LAST-MODIFIED:20240603T122713Z
UID:1726-1695927600-1695933000@mojafestival.com
SUMMARY:Paradise Blue
DESCRIPTION:This dramatic drama by Dominique Morisseau unravels a story about a Detroit neighborhood called Black Bottom\, at the heart of a club district called Paradise Valley\, where a trumpeter called Blue runs a joint they called Paradise\, where he fronts a quartet whose sidemen include a drummer called P-Sam and a pianist called Corn. \nThe bassist has quit\, perhaps because his name was just Joe. With a cleverly designed set\, a steamy plot\, and characters that are hard to forget\, the film-noir-influenced “Paradise Blue” is a riveting and moving play centering on Detroit’s Club Paradise\, a combination jazz club and boarding house that has a lot of conflict. \nThere is conflict between band members\, conflict between Blue\, the owner\, and a woman he loves\, and a woman he despises. These hostilities are accompanied by the inner conflicts of each character\, which intensify as the plot unfolds.
URL:https://mojafestival.com/event/paradise-blue/
LOCATION:Cannon Street Arts Center\, 134 Cannon St\, Charleston\, SC\, 29403\, United States
CATEGORIES:Drama
ATTACH;FMTTYPE=image/jpeg:https://mojafestival.com/wp-content/uploads/2024/06/event-paradise-blue-1.jpg
END:VEVENT
BEGIN:VEVENT
DTSTART;TZID=America/New_York:20230928T180000
DTEND;TZID=America/New_York:20230928T220000
DTSTAMP:20260423T041039
CREATED:20240603T122953Z
LAST-MODIFIED:20240603T122953Z
UID:1730-1695924000-1695938400@mojafestival.com
SUMMARY:Reggae Block Party
DESCRIPTION:The MOJA Reggae Block Dance promises to deliver once again with music from Jamaica’s own Earth Kry. Arrive early to catch reggae talent featuring Da’ Gullah Rootz and Monsoon featuring Operation Irie. The event will include African drumming and dance from Deninufay. \nFood trucks and cultural artisan vendors will be on site to round out the experience. Bring the whole family to this wonderful FREE to attend event.
URL:https://mojafestival.com/event/reggae-block-party/
LOCATION:Hampton Park\, 30 Mary Murray Dr\, Charleston\, SC\, 29403\, United States
CATEGORIES:Music
ATTACH;FMTTYPE=image/jpeg:https://mojafestival.com/wp-content/uploads/2024/06/moja-2023-1.jpg
END:VEVENT
BEGIN:VEVENT
DTSTART;TZID=America/New_York:20230928T180000
DTEND;TZID=America/New_York:20230928T200000
DTSTAMP:20260423T041039
CREATED:20240603T122532Z
LAST-MODIFIED:20240603T122532Z
UID:1723-1695924000-1695931200@mojafestival.com
SUMMARY:Opening Reception
DESCRIPTION:
URL:https://mojafestival.com/event/opening-reception-2023/
LOCATION:City Gallery\, 34 Prioleau Street\, Charleston\, SC\, 29401\, United States
ATTACH;FMTTYPE=image/jpeg:https://mojafestival.com/wp-content/uploads/2024/06/moja-2023-1.jpg
END:VEVENT
BEGIN:VEVENT
DTSTART;TZID=America/New_York:20230928T180000
DTEND;TZID=America/New_York:20230928T200000
DTSTAMP:20260423T041039
CREATED:20240602T182552Z
LAST-MODIFIED:20240602T182552Z
UID:1638-1695924000-1695931200@mojafestival.com
SUMMARY:Opening Day Street Parade
DESCRIPTION:Marion Square down King and Market to US Custom House
URL:https://mojafestival.com/event/opening-day-street-parade-2023/
LOCATION:Marion Square\, 329 Meeting St\, Charleston\, SC\, 29403\, United States
CATEGORIES:Parade
ATTACH;FMTTYPE=image/jpeg:https://mojafestival.com/wp-content/uploads/2024/06/event-parade-1.jpg
END:VEVENT
END:VCALENDAR